BEGIN:VCALENDAR
VERSION:2.0
PRODID:-//Paducah Main Street - ECPv6.15.16.1//NONSGML v1.0//EN
CALSCALE:GREGORIAN
METHOD:PUBLISH
X-WR-CALNAME:Paducah Main Street
X-ORIGINAL-URL:https://paducahmainstreet.org
X-WR-CALDESC:Events for Paducah Main Street
REFRESH-INTERVAL;VALUE=DURATION:PT1H
X-Robots-Tag:noindex
X-PUBLISHED-TTL:PT1H
BEGIN:VTIMEZONE
TZID:America/Chicago
BEGIN:DAYLIGHT
TZOFFSETFROM:-0600
TZOFFSETTO:-0500
TZNAME:CDT
DTSTART:20240310T080000
END:DAYLIGHT
BEGIN:STANDARD
TZOFFSETFROM:-0500
TZOFFSETTO:-0600
TZNAME:CST
DTSTART:20241103T070000
END:STANDARD
BEGIN:DAYLIGHT
TZOFFSETFROM:-0600
TZOFFSETTO:-0500
TZNAME:CDT
DTSTART:20250309T080000
END:DAYLIGHT
BEGIN:STANDARD
TZOFFSETFROM:-0500
TZOFFSETTO:-0600
TZNAME:CST
DTSTART:20251102T070000
END:STANDARD
BEGIN:DAYLIGHT
TZOFFSETFROM:-0600
TZOFFSETTO:-0500
TZNAME:CDT
DTSTART:20260308T080000
END:DAYLIGHT
BEGIN:STANDARD
TZOFFSETFROM:-0500
TZOFFSETTO:-0600
TZNAME:CST
DTSTART:20261101T070000
END:STANDARD
END:VTIMEZONE
BEGIN:VEVENT
DTSTART;TZID=America/Chicago:20251128T180000
DTEND;TZID=America/Chicago:20251128T200000
DTSTAMP:20260423T193832
CREATED:20251121T192902Z
LAST-MODIFIED:20251121T192902Z
UID:845-1764352800-1764360000@paducahmainstreet.org
SUMMARY:Raven & Moth Open Mic Night
DESCRIPTION:Join Raven & Moth for a free community event at 212 Broadway St in Downtown Paducah!\nEnjoy a variety of local talent & mingle with friends while exploring the store. Bonus: Take advantage of Black Friday specials storewide!All ages are welcome to attend or participate\, performance space is limited so please contact us promptly to sign up for a slot.Call\, stop by or message us during business hours at 270-557-5253 for more information & to sign up.\nLight refreshments served – adult beverages available from your favorite downtown bars in the EDC.
URL:https://paducahmainstreet.org/event/raven-moth-open-mic-night/
LOCATION:Raven & Moth\, 212 Broadway Street\, Paducah\, KY\, 42001\, United States
ATTACH;FMTTYPE=image/jpeg:https://paducahmainstreet.org/wp-content/uploads/2025/11/Open-Mic-Night-Flyer.jpg
END:VEVENT
END:VCALENDAR